BEGIN:VCALENDAR
VERSION:2.0
PRODID:-//Squarespace Inc/Squarespace 6//v6//EN
BEGIN:VEVENT
UID:59dea304bebafb493796068d@squarespace.com
DTSTAMP:20171011T231936Z
DTSTART:20171017T213000Z
DTEND:20171018T053000Z
SUMMARY:Community Renewable Energy Toolkit Workshop
END:VEVENT
END:VCALENDAR
