BEGIN:VCALENDAR
VERSION:2.0
PRODID:-//Squarespace Inc/Squarespace 6//v6//EN
BEGIN:VEVENT
UID:5a710ccce2c483d09611c983@squarespace.com
DTSTAMP:20180131T003825Z
DTSTART:20170322T223000Z
DTEND:20170323T040000Z
SUMMARY:Riverina Economic Development Forum - attracting investment
END:VEVENT
END:VCALENDAR
