BEGIN:VCALENDAR
VERSION:2.0
PRODID:-//Squarespace Inc/Squarespace 6//v6//EN
BEGIN:VEVENT
UID:59bdac8a8dd041cfeeec26bc@squarespace.com
DTSTAMP:20170916T230159Z
DTSTART:20170307T203000Z
DTEND:20170307T213000Z
SUMMARY:Riverina Regional Business Accelerator Program - Wagga
GEO:-35.116809;147.375272
LOCATION:Mercure Wagga\, 1-15 Morgan Street\, Wagga Wagga\, NSW\, 2650\, Au
 stralia
END:VEVENT
END:VCALENDAR
