BEGIN:VCALENDAR
VERSION:2.0
PRODID:-//Squarespace Inc/Squarespace 6//v6//EN
BEGIN:VEVENT
UID:59bdacffb7411c48367613af@squarespace.com
DTSTAMP:20170916T230211Z
DTSTART:20170308T203000Z
DTEND:20170308T230000Z
SUMMARY:Riverina Regional Business Accelerator Program - Griffith
GEO:-34.29467;146.049286
LOCATION:Griffith Ex-Serviceman's Club\, Jondaryan Avenue\, Griffith\, NSW\
 , 2680\, Australia
END:VEVENT
END:VCALENDAR
