BEGIN:VCALENDAR
VERSION:2.0
PRODID:-//Squarespace Inc/Squarespace 6//v6//EN
BEGIN:VEVENT
UID:5a71071953450aa85876b313@squarespace.com
DTSTAMP:20180131T002410Z
DTSTART:20170403T220000Z
DTEND:20170404T050000Z
SUMMARY:Finance and new technologies to improve energy productivity - indus
 try workshop
END:VEVENT
END:VCALENDAR
