BEGIN:VCALENDAR
VERSION:2.0
PRODID:-//Squarespace Inc/Squarespace 6//v6//EN
BEGIN:VEVENT
UID:5a710b30f9619acaaa7f827c@squarespace.com
DTSTAMP:20180131T002308Z
DTSTART:20170517T233000Z
DTEND:20170518T060000Z
SUMMARY:Agritourism Industry Tour -Tumbarumba/Batlow
END:VEVENT
END:VCALENDAR
