BEGIN:VCALENDAR
VERSION:2.0
PRODID:-//Squarespace Inc/Squarespace 6//v6//EN
BEGIN:VEVENT
UID:59bdac00bebafbb0da18ace7@squarespace.com
DTSTAMP:20170916T225803Z
DTSTART:20170628T073000Z
DTEND:20170628T103000Z
SUMMARY:Intro to Grant Writing - Wagga
GEO:-35.106149;147.351973
LOCATION:Murrumbidgee Turf Club\, Slocum Street\, Wagga Wagga\, NSW\, 2650\
 , Australia
END:VEVENT
END:VCALENDAR
