BEGIN:VCALENDAR
VERSION:2.0
PRODID:-//Squarespace Inc/Squarespace 6//v6//EN
BEGIN:VEVENT
UID:5a710392e2c483d0960f5bff@squarespace.com
DTSTAMP:20180131T001736Z
DTSTART:20170607T220000Z
DTEND:20170608T013000Z
SUMMARY:Bioenergy Opportunities for Riverina Industry & Business
END:VEVENT
END:VCALENDAR
