BEGIN:VCALENDAR
VERSION:2.0
PRODID:-//Squarespace Inc/Squarespace 6//v6//EN
BEGIN:VEVENT
UID:5a711042e4966be6e6d8d67f@squarespace.com
DTSTAMP:20180205T023350Z
DTSTART:20170718T000000Z
DTEND:20170721T023000Z
SUMMARY:Horticulture Skills Consultations
END:VEVENT
END:VCALENDAR
