BEGIN:VCALENDAR
VERSION:2.0
PRODID:-//Squarespace Inc/Squarespace 6//v6//EN
BEGIN:VEVENT
UID:5cad3124eef1a12a131dd452@squarespace.com
DTSTAMP:20190411T231423Z
DTSTART:20191113T220000Z
DTEND:20191114T040000Z
SUMMARY:2019 RDA Riverina Committee Meeting
END:VEVENT
END:VCALENDAR
