BEGIN:VCALENDAR
VERSION:2.0
PRODID:-//Squarespace Inc/Squarespace 6//v6//EN
BEGIN:VEVENT
UID:5a77c1d253450ac90981e430@squarespace.com
DTSTAMP:20180205T025619Z
DTSTART:20180213T230000Z
DTEND:20180214T010000Z
SUMMARY:NDIS Service Provider Information session
END:VEVENT
END:VCALENDAR
