BEGIN:VCALENDAR
VERSION:2.0
PRODID:-//Squarespace Inc/Squarespace 6//v6//EN
BEGIN:VEVENT
UID:5a77c20c53450ac90981f013@squarespace.com
DTSTAMP:20180205T024700Z
DTSTART:20180222T030000Z
DTEND:20180222T040000Z
SUMMARY:2018 RDA Riverina Committee Meeting
END:VEVENT
END:VCALENDAR
