BEGIN:VCALENDAR
VERSION:2.0
PRODID:-//Squarespace Inc/Squarespace 6//v6//EN
BEGIN:VEVENT
UID:5a94a4f0e2c48314b29bc8fe@squarespace.com
DTSTAMP:20180227T002607Z
DTSTART:20180301T010000Z
DTEND:20180301T020000Z
SUMMARY:Gregadoo Solar PV Farm solar PV farm Community Information Session
END:VEVENT
END:VCALENDAR
