BEGIN:VCALENDAR
VERSION:2.0
PRODID:-//Squarespace Inc/Squarespace 6//v6//EN
BEGIN:VEVENT
UID:5a94a3bc71c10b727fdf2417@squarespace.com
DTSTAMP:20180227T002303Z
DTSTART:20180227T070000Z
DTEND:20180227T080000Z
SUMMARY:Gregadoo Solar PV Farm solar PV farm Community Information Session
END:VEVENT
END:VCALENDAR
