BEGIN:VCALENDAR
VERSION:2.0
PRODID:-//Squarespace Inc/Squarespace 6//v6//EN
BEGIN:VEVENT
UID:5a77c1ba8165f51a34518592@squarespace.com
DTSTAMP:20180205T030807Z
DTSTART:20180204T233000Z
DTEND:20180205T033000Z
SUMMARY:Regional Automated Vehicle Trials - Wagga Wagga Briefing
END:VEVENT
END:VCALENDAR
