BEGIN:VCALENDAR
VERSION:2.0
PRODID:-//Squarespace Inc/Squarespace 6//v6//EN
BEGIN:VEVENT
UID:5a77c1e4f9619a31bd60d8ab@squarespace.com
DTSTAMP:20180205T030629Z
DTSTART:20180228T220000Z
DTEND:20180302T060000Z
SUMMARY:Agrihack
END:VEVENT
END:VCALENDAR
