BEGIN:VCALENDAR
VERSION:2.0
PRODID:-//Squarespace Inc/Squarespace 6//v6//EN
BEGIN:VEVENT
UID:5a94824af9619afc3c0a2766@squarespace.com
DTSTAMP:20180226T223200Z
DTSTART:20180301T063000Z
DTEND:20180301T073000Z
SUMMARY:Solar Power Investment Opportunity for the Shire Community - Public 
 Offering
END:VEVENT
END:VCALENDAR
