BEGIN:VCALENDAR
VERSION:2.0
PRODID:-//Squarespace Inc/Squarespace 6//v6//EN
BEGIN:VEVENT
UID:5aa9c191e2c4830ec13bb0fa@squarespace.com
DTSTAMP:20180315T010114Z
DTSTART:20180314T010000Z
DTEND:20180314T020000Z
SUMMARY:Griffith Business Chamber Awards Launch
END:VEVENT
END:VCALENDAR
