BEGIN:VCALENDAR
VERSION:2.0
PRODID:-//Squarespace Inc/Squarespace 6//v6//EN
BEGIN:VEVENT
UID:5a94a5c58165f5bdceaf4d07@squarespace.com
DTSTAMP:20180227T003127Z
DTSTART:20180320T050000Z
DTEND:20180320T070000Z
SUMMARY:Avonlie Solar Farm Community Information Sessions - Sandigo
END:VEVENT
END:VCALENDAR
