BEGIN:VCALENDAR
VERSION:2.0
PRODID:-//Squarespace Inc/Squarespace 6//v6//EN
BEGIN:VEVENT
UID:5a94a6f4e4966b42ef9e79c1@squarespace.com
DTSTAMP:20180227T231141Z
DTSTART:20180320T230000Z
DTEND:20180321T010000Z
SUMMARY:Avonlie Solar Farm Community Information Sessions - Narrandera
END:VEVENT
END:VCALENDAR
