BEGIN:VCALENDAR
VERSION:2.0
PRODID:-//Squarespace Inc/Squarespace 6//v6//EN
BEGIN:VEVENT
UID:5aa9de70e2c4830ec140950d@squarespace.com
DTSTAMP:20180315T025109Z
DTSTART:20180328T040000Z
DTEND:20180328T050000Z
SUMMARY:Considering South Asia?
END:VEVENT
END:VCALENDAR
