BEGIN:VCALENDAR
VERSION:2.0
PRODID:-//Squarespace Inc/Squarespace 6//v6//EN
BEGIN:VEVENT
UID:5a938d76ec212d9451fbf9fe@squarespace.com
DTSTAMP:20180226T043842Z
DTSTART:20180305T063000Z
DTEND:20180305T080000Z
SUMMARY:Public Lecture: US Film Expert Assistant Professor Alrick Brown  
END:VEVENT
END:VCALENDAR
