BEGIN:VCALENDAR
VERSION:2.0
PRODID:-//Squarespace Inc/Squarespace 6//v6//EN
BEGIN:VEVENT
UID:5a77c1fa0d929789ff2ba45a@squarespace.com
DTSTAMP:20180205T030649Z
DTSTART:20180305T220000Z
DTEND:20180308T060000Z
SUMMARY:ABARES Conference Canberra 
END:VEVENT
END:VCALENDAR
