BEGIN:VCALENDAR
VERSION:2.0
PRODID:-//Squarespace Inc/Squarespace 6//v6//EN
BEGIN:VEVENT
UID:5a77c2a50d929789ff2bc9da@squarespace.com
DTSTAMP:20180205T023824Z
DTSTART:20180308T063000Z
DTEND:20180308T093000Z
SUMMARY:Collaborative Farming Models
END:VEVENT
END:VCALENDAR
