BEGIN:VCALENDAR
VERSION:2.0
PRODID:-//Squarespace Inc/Squarespace 6//v6//EN
BEGIN:VEVENT
UID:5a94902e24a6948ba64b80f3@squarespace.com
DTSTAMP:20180226T230333Z
DTSTART:20180309T020000Z
DTEND:20180309T080000Z
SUMMARY:Sebastopol Solar Farm Community Information Session
END:VEVENT
END:VCALENDAR
