BEGIN:VCALENDAR
VERSION:2.0
PRODID:-//Squarespace Inc/Squarespace 6//v6//EN
BEGIN:VEVENT
UID:5abc50cb8a922dcb2e90970b@squarespace.com
DTSTAMP:20180329T031926Z
DTSTART:20180412T080000Z
DTEND:20180412T100000Z
SUMMARY:6 Social Media Rules
END:VEVENT
END:VCALENDAR
