BEGIN:VCALENDAR
VERSION:2.0
PRODID:-//Squarespace Inc/Squarespace 6//v6//EN
BEGIN:VEVENT
UID:5aa9be0b652deaa43059c910@squarespace.com
DTSTAMP:20180413T022957Z
DTSTART:20180416T033000Z
DTEND:20180416T053000Z
SUMMARY:CommBank Cyber Safety and Cyber Security Forum
END:VEVENT
END:VCALENDAR
