BEGIN:VCALENDAR
VERSION:2.0
PRODID:-//Squarespace Inc/Squarespace 6//v6//EN
BEGIN:VEVENT
UID:5aa9bc5471c10b19376c3d90@squarespace.com
DTSTAMP:20180315T002712Z
DTSTART:20180426T030000Z
DTEND:20180427T033000Z
SUMMARY:Digital Bootcamp in Wagga Wagga
END:VEVENT
END:VCALENDAR
