BEGIN:VCALENDAR
VERSION:2.0
PRODID:-//Squarespace Inc/Squarespace 6//v6//EN
BEGIN:VEVENT
UID:5abc574e2b6a28c8f436c3d8@squarespace.com
DTSTAMP:20180329T031915Z
DTSTART:20180404T020000Z
DTEND:20180404T030000Z
SUMMARY:Griffith Business Awards Tips and Hints
END:VEVENT
END:VCALENDAR
