BEGIN:VCALENDAR
VERSION:2.0
PRODID:-//Squarespace Inc/Squarespace 6//v6//EN
BEGIN:VEVENT
UID:5ab81efcaa4a995f7b54b087@squarespace.com
DTSTAMP:20180409T041104Z
DTSTART:20180430T230000Z
DTEND:20180503T060000Z
SUMMARY:Destination Riverina Murray Event Development Program
END:VEVENT
END:VCALENDAR
