BEGIN:VCALENDAR
VERSION:2.0
PRODID:-//Squarespace Inc/Squarespace 6//v6//EN
BEGIN:VEVENT
UID:5ae663e21ae6cfa83d60e2d4@squarespace.com
DTSTAMP:20180430T003659Z
DTSTART:20180509T233000Z
DTEND:20180510T050000Z
SUMMARY:Riverina Development Officer Forum
END:VEVENT
END:VCALENDAR
