BEGIN:VCALENDAR
VERSION:2.0
PRODID:-//Squarespace Inc/Squarespace 6//v6//EN
BEGIN:VEVENT
UID:5ae2b1011ae6cf7022a72371@squarespace.com
DTSTAMP:20180508T234456Z
DTSTART:20180517T030000Z
DTEND:20180518T033000Z
SUMMARY:Digital Bootcamp in Griffith
END:VEVENT
END:VCALENDAR
