BEGIN:VCALENDAR
VERSION:2.0
PRODID:-//Squarespace Inc/Squarespace 6//v6//EN
BEGIN:VEVENT
UID:5aea6f4470a6ad7a606248c7@squarespace.com
DTSTAMP:20180503T021403Z
DTSTART:20180507T070000Z
DTEND:20180507T093000Z
SUMMARY:Bomen Solar Farm - Community Information Drop-in Session
END:VEVENT
END:VCALENDAR
