BEGIN:VCALENDAR
VERSION:2.0
PRODID:-//Squarespace Inc/Squarespace 6//v6//EN
BEGIN:VEVENT
UID:5d9d340b96628617e86f496f@squarespace.com
DTSTAMP:20191011T034305Z
DTSTART:20191016T203000Z
DTEND:20191016T223000Z
SUMMARY:Snowy 2.0 ICN Workshops - Cooma
GEO:-36.239066;149.118093
LOCATION:Future Generation Joint Venture Office\, 220-226 Sharp Street\, Co
 oma\, Australia
END:VEVENT
END:VCALENDAR
