BEGIN:VCALENDAR
VERSION:2.0
PRODID:-//Squarespace Inc/Squarespace 6//v6//EN
BEGIN:VEVENT
UID:5d9d31eb180f383cfd744b2f@squarespace.com
DTSTAMP:20191011T034209Z
DTSTART:20191015T043000Z
DTEND:20191015T063000Z
SUMMARY:Snowy 2.0 ICN Workshops - Tumbarumba
GEO:-35.777455;148.012782
LOCATION:Snowy Valleys Council Chambers\, Bridge St\, Tumbarumba\, NSW\, 26
 53\, Australia
END:VEVENT
END:VCALENDAR
