BEGIN:VCALENDAR
VERSION:2.0
PRODID:-//Squarespace Inc/Squarespace 6//v6//EN
BEGIN:VEVENT
UID:5d9d336b2ec14e7e3f1e7e9d@squarespace.com
DTSTAMP:20191011T034240Z
DTSTART:20191016T063000Z
DTEND:20191016T083000Z
SUMMARY:Snowy 2.0 ICN Workshops - Tumut
GEO:-35.30629;148.210229
LOCATION:Tumut Golf Club\, Fairway Drive\, Tumut\, Australia
END:VEVENT
END:VCALENDAR
