BEGIN:VCALENDAR
VERSION:2.0
PRODID:-//Squarespace Inc/Squarespace 6//v6//EN
BEGIN:VEVENT
UID:5d913fe5d1f78e78c2e27a0b@squarespace.com
DTSTAMP:20190929T234215Z
DTSTART:20191017T013000Z
DTEND:20191017T023000Z
SUMMARY:Partnerships for Profit and Purpose: Webinar Series #2
END:VEVENT
END:VCALENDAR
