BEGIN:VCALENDAR
VERSION:2.0
PRODID:-//Squarespace Inc/Squarespace 6//v6//EN
BEGIN:VEVENT
UID:5d846d09f8b08c5b3093c370@squarespace.com
DTSTAMP:20190920T061311Z
DTSTART:20191028T203000Z
DTEND:20191028T233000Z
SUMMARY:Boost with Facebook
GEO:-35.106773;147.365102
LOCATION:Commercial Club Wagga Wagga\, 77 Gurwood Street\, Wagga Wagga\, NS
 W\, 2650\, Australia
END:VEVENT
END:VCALENDAR
