BEGIN:VCALENDAR
VERSION:2.0
PRODID:-//Squarespace Inc/Squarespace 6//v6//EN
BEGIN:VEVENT
UID:5db91437dc253e6bed842715@squarespace.com
DTSTAMP:20191030T044303Z
DTSTART:20191029T073000Z
DTEND:20191203T090000Z
SUMMARY:PCYC Violence Management and Self-Defence Program
END:VEVENT
END:VCALENDAR
