BEGIN:VCALENDAR
VERSION:2.0
PRODID:-//Squarespace Inc/Squarespace 6//v6//EN
BEGIN:VEVENT
UID:5dae57c34b15037aabf78027@squarespace.com
DTSTAMP:20191022T011721Z
DTSTART:20191029T223000Z
DTEND:20191029T233000Z
SUMMARY:Bridge Hub Presents - Oded Distel - Israel\, Water and Technology
GEO:-35.058417;147.353712
LOCATION:AgriTech Incubator\, Building 6 Charles Sturt University\, Wagga W
 agga
END:VEVENT
END:VCALENDAR
