BEGIN:VCALENDAR
VERSION:2.0
PRODID:-//Squarespace Inc/Squarespace 6//v6//EN
BEGIN:VEVENT
UID:5d9bfd75d8cbd012c4e4d988@squarespace.com
DTSTAMP:20191008T031739Z
DTSTART:20191030T020000Z
DTEND:20191030T043000Z
SUMMARY:Mirror\, Mirror - who is the best leader of all? NSW Riverina event
GEO:-34.31733;146.061102
LOCATION:86 Research Station Road\, Hanwood\, NSW\, 2680\, Australia
END:VEVENT
END:VCALENDAR
