BEGIN:VCALENDAR
VERSION:2.0
PRODID:-//Squarespace Inc/Squarespace 6//v6//EN
BEGIN:VEVENT
UID:5d846e9d4745226d8464d106@squarespace.com
DTSTAMP:20190920T062009Z
DTSTART:20191008T233000Z
DTEND:20191009T043000Z
SUMMARY:Opportunities with Inland Rail –  Information Session
GEO:-35.124327;147.419339
LOCATION:Quality Inn Carriage House\, 7 Eunony Bridge Road\, Wagga Wagga\, 
 Australia
END:VEVENT
END:VCALENDAR
