BEGIN:VCALENDAR
VERSION:2.0
PRODID:-//Squarespace Inc/Squarespace 6//v6//EN
BEGIN:VEVENT
UID:5da3b5feff3f1e0b3345d60e@squarespace.com
DTSTAMP:20191013T234857Z
DTSTART:20191111T070000Z
DTEND:20191111T093000Z
SUMMARY:STEM in the Riverina Showcase
GEO:-34.287199;146.036447
LOCATION:Griffith Regional Theatre\, 1 Neville Place\, Griffith\, NSW\, 268
 0\, Australia
END:VEVENT
END:VCALENDAR
