BEGIN:VCALENDAR
VERSION:2.0
PRODID:-//Squarespace Inc/Squarespace 6//v6//EN
BEGIN:VEVENT
UID:5da3b58d6b739e6f84c12080@squarespace.com
DTSTAMP:20191013T234838Z
DTSTART:20191112T013000Z
DTEND:20191112T033000Z
SUMMARY:Women in STEM Grow Our Own
GEO:-34.287199;146.036447
LOCATION:Griffith Regional Theatre\, 1 Neville Place\, Griffith\, NSW\, 268
 0\, Australia
END:VEVENT
END:VCALENDAR
