BEGIN:VCALENDAR
VERSION:2.0
PRODID:-//Squarespace Inc/Squarespace 6//v6//EN
BEGIN:VEVENT
UID:5d9e6bbeee902a468dad197c@squarespace.com
DTSTAMP:20191013T234847Z
DTSTART:20191111T220000Z
DTEND:20191112T010000Z
SUMMARY:Women in STEM Department of Education Schools
GEO:-34.287199;146.036447
LOCATION:Griffith Regional Theatre\, 1 Neville Place\, Griffith\, NSW\, 268
 0\, Australia
END:VEVENT
END:VCALENDAR
