BEGIN:VCALENDAR
VERSION:2.0
PRODID:-//Squarespace Inc/Squarespace 6//v6//EN
BEGIN:VEVENT
UID:5d68ba19521bde00013b0532@squarespace.com
DTSTAMP:20190830T060255Z
DTSTART:20191113T220000Z
DTEND:20191114T073000Z
SUMMARY:National Renewables in Agriculture Conference and Expo
END:VEVENT
END:VCALENDAR
