BEGIN:VCALENDAR
VERSION:2.0
PRODID:-//Squarespace Inc/Squarespace 6//v6//EN
BEGIN:VEVENT
UID:5db0d253049ad83d6733b798@squarespace.com
DTSTAMP:20191023T222706Z
DTSTART:20191117T220000Z
DTEND:20191119T060000Z
SUMMARY:2nd Annual Snowy Region Construction and Development Conference 201
 9
GEO:-36.237001;149.126017
LOCATION:Cooma Ex Services Club\, 106 Vale St\, Cooma NSW 2630
END:VEVENT
END:VCALENDAR
