BEGIN:VCALENDAR
VERSION:2.0
PRODID:-//Squarespace Inc/Squarespace 6//v6//EN
BEGIN:VEVENT
UID:5da924c017f9617081e92ac5@squarespace.com
DTSTAMP:20191018T023908Z
DTSTART:20191118T213000Z
DTEND:20191119T043000Z
SUMMARY:Governance Essentials Training - Griffith NSW
END:VEVENT
END:VCALENDAR
