BEGIN:VCALENDAR
VERSION:2.0
PRODID:-//Squarespace Inc/Squarespace 6//v6//EN
BEGIN:VEVENT
UID:5dd2770fd6c0de799e550371@squarespace.com
DTSTAMP:20191118T105123Z
DTSTART:20191121T013000Z
DTEND:20191121T040000Z
SUMMARY:National Ag Day Celebration
END:VEVENT
END:VCALENDAR
