BEGIN:VCALENDAR
VERSION:2.0
PRODID:-//Squarespace Inc/Squarespace 6//v6//EN
BEGIN:VEVENT
UID:5dd5c1f9a8c5393bf2976166@squarespace.com
DTSTAMP:20191120T225336Z
DTSTART:20191125T223000Z
DTEND:20191126T020000Z
SUMMARY:NSW Export Capability Program
GEO:-34.55035;150.373164
LOCATION:Theatrette\, Civic Centre\, 68 Elizabeth Street\, Moss Vale\, NSW\
 , Australia
END:VEVENT
END:VCALENDAR
